BEGIN:VCALENDAR
VERSION:2.0
PRODID:-//Mata PTA - ECPv6.6.0.2//NONSGML v1.0//EN
CALSCALE:GREGORIAN
METHOD:PUBLISH
X-WR-CALNAME:Mata PTA
X-ORIGINAL-URL:https://matapta.org/es
X-WR-CALDESC:Eventos para Mata PTA
REFRESH-INTERVAL;VALUE=DURATION:PT1H
X-Robots-Tag:noindex
X-PUBLISHED-TTL:PT1H
BEGIN:VTIMEZONE
TZID:America/Chicago
BEGIN:DAYLIGHT
TZOFFSETFROM:-0600
TZOFFSETTO:-0500
TZNAME:CDT
DTSTART:20250309T080000
END:DAYLIGHT
BEGIN:STANDARD
TZOFFSETFROM:-0500
TZOFFSETTO:-0600
TZNAME:CST
DTSTART:20251102T070000
END:STANDARD
END:VTIMEZONE
BEGIN:VEVENT
DTSTART;TZID=America/Chicago:20250812T073000
DTEND;TZID=America/Chicago:20250812T083000
DTSTAMP:20260420T150740
CREATED:20250808T135056Z
LAST-MODIFIED:20250808T135056Z
UID:4889-1754983800-1754987400@matapta.org
SUMMARY:Yahoo Boohoo Breakfast
DESCRIPTION:Cheers or Tears? Yahoo or Boohoo?No matter how you feel about it\, the new school year is here! \nCome join your Mata PTA friends at our annual Yahoo/Boohoo event on the first day of school. \nWe’ll be serving breakfast snacks\, coffee\, and juice on the grassy hill between the drop-off entrances during morning drop-off. \nWhether you’re celebrating\, feeling sentimental\, or a mix of both\, stop by and share your feelings\, and connect with fellow parents as we kick off another great year!
URL:https://matapta.org/es/event/yahoo-boohoo-breakfast-2/
LOCATION:Eduardo Mata Montessori School\, 7420 La Vista Drive\, Dallas\, TX\, 75214
CATEGORIES:Back to School,Free Event,On Campus
ATTACH;FMTTYPE=image/jpeg:https://matapta.org/wp-content/uploads/2023/08/Yahoo-Boohoo-Breakfast.jpg
ORGANIZER;CN="Mata PTA":MAILTO:pta@matapta.org
END:VEVENT
END:VCALENDAR