BEGIN:VCALENDAR
VERSION:2.0
PRODID:-//Mata PTA - ECPv6.6.0.2//NONSGML v1.0//EN
CALSCALE:GREGORIAN
METHOD:PUBLISH
X-WR-CALNAME:Mata PTA
X-ORIGINAL-URL:https://matapta.org/es
X-WR-CALDESC:Eventos para Mata PTA
REFRESH-INTERVAL;VALUE=DURATION:PT1H
X-Robots-Tag:noindex
X-PUBLISHED-TTL:PT1H
BEGIN:VTIMEZONE
TZID:America/Chicago
BEGIN:DAYLIGHT
TZOFFSETFROM:-0600
TZOFFSETTO:-0500
TZNAME:CDT
DTSTART:20250309T080000
END:DAYLIGHT
BEGIN:STANDARD
TZOFFSETFROM:-0500
TZOFFSETTO:-0600
TZNAME:CST
DTSTART:20251102T070000
END:STANDARD
END:VTIMEZONE
BEGIN:VEVENT
DTSTART;TZID=America/Chicago:20250903T170000
DTEND;TZID=America/Chicago:20250903T183000
DTSTAMP:20260420T183437
CREATED:20250901T192448Z
LAST-MODIFIED:20250901T192448Z
UID:4926-1756918800-1756924200@matapta.org
SUMMARY:Mata Open House
DESCRIPTION:Open House will be conducted by teachers on September 3rd. \nMata PTA will have a booth set up where you can learn more about the PTA and signup for a membership and online account. \nThe Eagle Wagon will be there as well to show you how to order shirts! We will have a limited supply of shirts\, hats\, and yard signs on hand as well. Stop by and pick up your swag!
URL:https://matapta.org/es/event/mata-open-house-3/
LOCATION:Eduardo Mata Montessori School\, 7420 La Vista Drive\, Dallas\, TX\, 75214
CATEGORIES:Free Event,On Campus
ATTACH;FMTTYPE=image/jpeg:https://matapta.org/wp-content/uploads/2023/08/open-house-header.jpg
END:VEVENT
BEGIN:VEVENT
DTSTART;TZID=America/Chicago:20250909T180000
DTEND;TZID=America/Chicago:20250909T190000
DTSTAMP:20260420T183437
CREATED:20250908T231023Z
LAST-MODIFIED:20250908T231023Z
UID:4930-1757440800-1757444400@matapta.org
SUMMARY:PTA General Meeting
DESCRIPTION:Join us in the Mata auditorium for our first general meeting of the school year! We will discuss new business and what is slated to happen in the coming months\, including our annual Trunk or Treat event.
URL:https://matapta.org/es/event/pta-general-meeting-7/
CATEGORIES:Free Event,On Campus,PTA General Meeting
ATTACH;FMTTYPE=image/jpeg:https://matapta.org/wp-content/uploads/2023/08/pta-general-meeting-header.jpg
END:VEVENT
BEGIN:VEVENT
DTSTART;TZID=America/Chicago:20250926T070000
DTEND;TZID=America/Chicago:20250926T100000
DTSTAMP:20260420T183437
CREATED:20250908T235414Z
LAST-MODIFIED:20250922T220734Z
UID:4932-1758870000-1758880800@matapta.org
SUMMARY:Cultivar Coffee Spirit Morning
DESCRIPTION:Java for Mata on Friday September 26th at Cultivar Coffee. Our friends at Cultivar Coffee will be donate proceeds from purchases between 7a-10a. Cultivar is located in East Dallas\,  inside of Goodfriend Package at 1155 Peavy Rd. Dallas\, TX 75218.
URL:https://matapta.org/es/event/cultivar-coffee-spirit-morning/
LOCATION:Cultivar Coffee\, 1155 Peavy Rd\, Dallas\, TX\, 75218\, United States
CATEGORIES:Fundraising,Off Campus
ATTACH;FMTTYPE=image/png:https://matapta.org/wp-content/uploads/2025/09/Java-For-Mata.png
ORGANIZER;CN="Mata PTA":MAILTO:pta@matapta.org
END:VEVENT
END:VCALENDAR