BEGIN:VCALENDAR
VERSION:2.0
PRODID:-//Mata PTA - ECPv6.6.0.2//NONSGML v1.0//EN
CALSCALE:GREGORIAN
METHOD:PUBLISH
X-ORIGINAL-URL:https://matapta.org
X-WR-CALDESC:Events for Mata PTA
REFRESH-INTERVAL;VALUE=DURATION:PT1H
X-Robots-Tag:noindex
X-PUBLISHED-TTL:PT1H
BEGIN:VTIMEZONE
TZID:America/Chicago
BEGIN:DAYLIGHT
TZOFFSETFROM:-0600
TZOFFSETTO:-0500
TZNAME:CDT
DTSTART:20230312T080000
END:DAYLIGHT
BEGIN:STANDARD
TZOFFSETFROM:-0500
TZOFFSETTO:-0600
TZNAME:CST
DTSTART:20231105T070000
END:STANDARD
BEGIN:DAYLIGHT
TZOFFSETFROM:-0600
TZOFFSETTO:-0500
TZNAME:CDT
DTSTART:20240310T080000
END:DAYLIGHT
BEGIN:STANDARD
TZOFFSETFROM:-0500
TZOFFSETTO:-0600
TZNAME:CST
DTSTART:20241103T070000
END:STANDARD
BEGIN:DAYLIGHT
TZOFFSETFROM:-0600
TZOFFSETTO:-0500
TZNAME:CDT
DTSTART:20250309T080000
END:DAYLIGHT
BEGIN:STANDARD
TZOFFSETFROM:-0500
TZOFFSETTO:-0600
TZNAME:CST
DTSTART:20251102T070000
END:STANDARD
BEGIN:DAYLIGHT
TZOFFSETFROM:-0600
TZOFFSETTO:-0500
TZNAME:CDT
DTSTART:20260308T080000
END:DAYLIGHT
BEGIN:STANDARD
TZOFFSETFROM:-0500
TZOFFSETTO:-0600
TZNAME:CST
DTSTART:20261101T070000
END:STANDARD
END:VTIMEZONE
BEGIN:VEVENT
DTSTART;TZID=America/Chicago:20260306T080000
DTEND;TZID=America/Chicago:20260306T170000
DTSTAMP:20260419T184145
CREATED:20260306T200916Z
LAST-MODIFIED:20260306T200916Z
UID:5064-1772784000-1772816400@matapta.org
SUMMARY:Mata PTA General Meeting
DESCRIPTION:Join us for the Mata PTA General Meeting on Tuesday\, March 10\, 2026 at 6:00 PM in the Mata Auditorium. All parents\, caregivers\, and staff are welcome to attend. \nWe will begin the evening with a brief meeting to share PTA updates and seek volunteers for the PTA Nominating Committee\, which will help identify and recruit candidates to fill open positions on next year’s PTA Board. This is a great way to support the future leadership of our PTA and help ensure a strong year ahead. \nAfter the meeting\, stay and enjoy special performances by our Mata Orchestra and Cheerleaders. 🎶📣 \nWe hope you’ll join us to stay informed\, get involved\, and celebrate the talents of our students!
URL:https://matapta.org/event/mata-pta-general-meeting/
LOCATION:Eduardo Mata Montessori School\, 7420 La Vista Drive\, Dallas\, TX\, 75214
CATEGORIES:PTA General Meeting
ATTACH;FMTTYPE=image/jpeg:https://matapta.org/wp-content/uploads/2026/03/pta-general-meeting-header.jpg
ORGANIZER;CN="Mata PTA":MAILTO:pta@matapta.org
END:VEVENT
BEGIN:VEVENT
DTSTART;TZID=America/Chicago:20250909T180000
DTEND;TZID=America/Chicago:20250909T190000
DTSTAMP:20260419T184145
CREATED:20250908T231023Z
LAST-MODIFIED:20250908T231023Z
UID:4930-1757440800-1757444400@matapta.org
SUMMARY:PTA General Meeting
DESCRIPTION:Join us in the Mata auditorium for our first general meeting of the school year! We will discuss new business and what is slated to happen in the coming months\, including our annual Trunk or Treat event.
URL:https://matapta.org/event/pta-general-meeting-7/
LOCATION:TX
CATEGORIES:Free Event,On Campus,PTA General Meeting
ATTACH;FMTTYPE=image/jpeg:https://matapta.org/wp-content/uploads/2023/08/pta-general-meeting-header.jpg
END:VEVENT
BEGIN:VEVENT
DTSTART;TZID=America/Chicago:20250513T180000
DTEND;TZID=America/Chicago:20250513T190000
DTSTAMP:20260419T184145
CREATED:20241102T152838Z
LAST-MODIFIED:20241102T152838Z
UID:4608-1747159200-1747162800@matapta.org
SUMMARY:PTA General Meeting
DESCRIPTION:📣 Join Us for the Mata PTA General Meeting! 📣 \nHey Mata Community! We’re excited to invite all parents and community members to our upcoming PTA General Meeting! 🗓️ \n 
URL:https://matapta.org/event/pta-general-meeting-6/
LOCATION:TX
CATEGORIES:Free Event,On Campus,PTA General Meeting
ATTACH;FMTTYPE=image/jpeg:https://matapta.org/wp-content/uploads/2023/08/pta-general-meeting-header.jpg
END:VEVENT
BEGIN:VEVENT
DTSTART;TZID=America/Chicago:20250408T180000
DTEND;TZID=America/Chicago:20250408T190000
DTSTAMP:20260419T184145
CREATED:20241102T152608Z
LAST-MODIFIED:20241102T152608Z
UID:4606-1744135200-1744138800@matapta.org
SUMMARY:PTA General Meeting
DESCRIPTION:📣 Join Us for the Mata PTA General Meeting! 📣 \nHey Mata Community! We’re excited to invite all parents and community members to our upcoming PTA General Meeting! 🗓️ \n 
URL:https://matapta.org/event/pta-general-meeting-5/
LOCATION:TX
CATEGORIES:Free Event,On Campus,PTA General Meeting
ATTACH;FMTTYPE=image/jpeg:https://matapta.org/wp-content/uploads/2023/08/pta-general-meeting-header.jpg
END:VEVENT
BEGIN:VEVENT
DTSTART;TZID=America/Chicago:20250114T170000
DTEND;TZID=America/Chicago:20250114T193000
DTSTAMP:20260419T184145
CREATED:20241102T152430Z
LAST-MODIFIED:20250107T155658Z
UID:4604-1736874000-1736883000@matapta.org
SUMMARY:PTA General Meeting + Community Science Night
DESCRIPTION:📣 Join Us for the Mata PTA General Meeting! 📣 \nHey Mata Community! We’re excited to invite all parents and community members to our upcoming PTA General Meeting! 🗓️ After the meeting\, families are invited to. visit 6 stations where Perot Museum Educators will help you make and explore: \n• Paper Rockets\n• Digital Microscopes\n• Robotics (Ozobots\, Sphero’s or VEX)\n• Makey Makey Circuitry\n• LEGO Gravity Racers\n• Marble Roller Coasters \nAll ages are welcome! \n 
URL:https://matapta.org/event/pta-general-meeting-4/
LOCATION:TX
CATEGORIES:Free Event,On Campus,PTA General Meeting
ATTACH;FMTTYPE=image/png:https://matapta.org/wp-content/uploads/2024/11/Copy-of-Copy-of-Science-Night-Presentation.png
END:VEVENT
BEGIN:VEVENT
DTSTART;TZID=America/Chicago:20241112T180000
DTEND;TZID=America/Chicago:20241112T190000
DTSTAMP:20260419T184145
CREATED:20241102T152133Z
LAST-MODIFIED:20241102T152133Z
UID:4534-1731434400-1731438000@matapta.org
SUMMARY:PTA General Meeting
DESCRIPTION:📣 Join Us for the Mata PTA General Meeting! 📣 \nHey Mata Community! We’re excited to invite all parents and community members to our upcoming PTA General Meeting! 🗓️ \n 
URL:https://matapta.org/event/pta-general-meeting-3/
LOCATION:TX
CATEGORIES:Free Event,On Campus,PTA General Meeting
ATTACH;FMTTYPE=image/jpeg:https://matapta.org/wp-content/uploads/2023/08/pta-general-meeting-header.jpg
END:VEVENT
BEGIN:VEVENT
DTSTART;TZID=America/Chicago:20240910T180000
DTEND;TZID=America/Chicago:20240910T190000
DTSTAMP:20260419T184145
CREATED:20240819T134026Z
LAST-MODIFIED:20240819T134026Z
UID:4296-1725991200-1725994800@matapta.org
SUMMARY:PTA General Meeting
DESCRIPTION:Join us in the Mata cafeteria for our first general meeting of the school year! We will discuss new business and what is slated to happen in the coming months\, including our Trunk or Treat event.
URL:https://matapta.org/event/pta-general-meeting-2/
LOCATION:TX
CATEGORIES:Free Event,On Campus,PTA General Meeting
ATTACH;FMTTYPE=image/jpeg:https://matapta.org/wp-content/uploads/2023/08/pta-general-meeting-header.jpg
END:VEVENT
BEGIN:VEVENT
DTSTART;TZID=America/Chicago:20240518T180000
DTEND;TZID=America/Chicago:20240518T190000
DTSTAMP:20260419T184145
CREATED:20230806T235926Z
LAST-MODIFIED:20240429T182342Z
UID:1496-1716055200-1716058800@matapta.org
SUMMARY:PTA General Meeting
DESCRIPTION:This general meeting will take place at 6pm during our Beach Bash celebration. We will discuss new business and what is slated to happen in the coming months. Snacks and food will be provided!
URL:https://matapta.org/event/pta-general-meeting-5-14/
LOCATION:TX
CATEGORIES:Free Event,On Campus,PTA General Meeting
ATTACH;FMTTYPE=image/jpeg:https://matapta.org/wp-content/uploads/2023/08/pta-general-meeting-header.jpg
END:VEVENT
BEGIN:VEVENT
DTSTART;TZID=America/Chicago:20240409T180000
DTEND;TZID=America/Chicago:20240409T190000
DTSTAMP:20260419T184145
CREATED:20230806T235857Z
LAST-MODIFIED:20230806T235857Z
UID:1494-1712685600-1712689200@matapta.org
SUMMARY:PTA General Meeting
DESCRIPTION:This general meeting will be held in the Mata auditorium starting at 6pm. We will discuss new business and what is slated to happen in the coming months. Snacks and food will be provided!
URL:https://matapta.org/event/pta-general-meeting-4-9/
LOCATION:TX
CATEGORIES:Free Event,On Campus,PTA General Meeting
ATTACH;FMTTYPE=image/jpeg:https://matapta.org/wp-content/uploads/2023/08/pta-general-meeting-header.jpg
END:VEVENT
BEGIN:VEVENT
DTSTART;TZID=America/Chicago:20240123T180000
DTEND;TZID=America/Chicago:20240123T190000
DTSTAMP:20260419T184145
CREATED:20230806T235825Z
LAST-MODIFIED:20230806T235825Z
UID:1492-1706032800-1706036400@matapta.org
SUMMARY:PTA General Meeting
DESCRIPTION:This general meeting will be held in the Mata auditorium starting at 6pm. We will discuss new business and what is slated to happen in the coming months. Snacks and food will be provided!
URL:https://matapta.org/event/pta-general-meeting-1-23/
LOCATION:TX
CATEGORIES:Free Event,On Campus,PTA General Meeting
ATTACH;FMTTYPE=image/jpeg:https://matapta.org/wp-content/uploads/2023/08/pta-general-meeting-header.jpg
END:VEVENT
BEGIN:VEVENT
DTSTART;TZID=America/Chicago:20231114T180000
DTEND;TZID=America/Chicago:20231114T190000
DTSTAMP:20260419T184145
CREATED:20230806T235744Z
LAST-MODIFIED:20230806T235800Z
UID:1489-1699984800-1699988400@matapta.org
SUMMARY:PTA General Meeting
DESCRIPTION:This general meeting will be held in the Mata auditorium starting at 6pm. We will discuss new business and what is slated to happen in the coming months. Snacks and food will be provided!
URL:https://matapta.org/event/pta-general-meeting-11-14/
LOCATION:TX
CATEGORIES:Free Event,On Campus,PTA General Meeting
ATTACH;FMTTYPE=image/jpeg:https://matapta.org/wp-content/uploads/2023/08/pta-general-meeting-header.jpg
END:VEVENT
BEGIN:VEVENT
DTSTART;TZID=America/Chicago:20230912T180000
DTEND;TZID=America/Chicago:20230912T190000
DTSTAMP:20260419T184145
CREATED:20230806T222601Z
LAST-MODIFIED:20230908T173054Z
UID:1467-1694541600-1694545200@matapta.org
SUMMARY:PTA General Meeting
DESCRIPTION:Our first general meeting will be held in the Mata cafeteria starting at 6pm. We will discuss new business and what is slated to happen in the coming months. Food and drinks will be provided!
URL:https://matapta.org/event/pta-general-meeting/
LOCATION:TX
CATEGORIES:Free Event,On Campus,PTA General Meeting
ATTACH;FMTTYPE=image/jpeg:https://matapta.org/wp-content/uploads/2023/08/pta-general-meeting-header.jpg
END:VEVENT
END:VCALENDAR