BEGIN:VCALENDAR
VERSION:2.0
PRODID:-//Mata PTA - ECPv6.6.0.2//NONSGML v1.0//EN
CALSCALE:GREGORIAN
METHOD:PUBLISH
X-ORIGINAL-URL:https://matapta.org
X-WR-CALDESC:Events for Mata PTA
REFRESH-INTERVAL;VALUE=DURATION:PT1H
X-Robots-Tag:noindex
X-PUBLISHED-TTL:PT1H
BEGIN:VTIMEZONE
TZID:America/Chicago
BEGIN:DAYLIGHT
TZOFFSETFROM:-0600
TZOFFSETTO:-0500
TZNAME:CDT
DTSTART:20230312T080000
END:DAYLIGHT
BEGIN:STANDARD
TZOFFSETFROM:-0500
TZOFFSETTO:-0600
TZNAME:CST
DTSTART:20231105T070000
END:STANDARD
BEGIN:DAYLIGHT
TZOFFSETFROM:-0600
TZOFFSETTO:-0500
TZNAME:CDT
DTSTART:20240310T080000
END:DAYLIGHT
BEGIN:STANDARD
TZOFFSETFROM:-0500
TZOFFSETTO:-0600
TZNAME:CST
DTSTART:20241103T070000
END:STANDARD
END:VTIMEZONE
BEGIN:VEVENT
DTSTART;TZID=America/Chicago:20240125T180000
DTEND;TZID=America/Chicago:20240125T200000
DTSTAMP:20260419T201931
CREATED:20230822T201625Z
LAST-MODIFIED:20230822T201625Z
UID:2772-1706205600-1706212800@matapta.org
SUMMARY:DISD Board Meeting
DESCRIPTION:Dallas ISD will be having its regular board meeting starting at 6pm. You are welcome to join either by phone\, in person\, or you can live stream the meeting. If you have questions or concerns with district policy and decision making attending a board meeting is a great first step in taking action. A recording of the meeting will be made available to the public. \nMembers of the public will appear in person. Persons desiring to speak will call the Office of Board Services at 972-925-3720 during the registration period outlined in BED (Local). Only members of the public who are properly registered will be allowed to speak during the meeting. No substitutions will be allowed. \n  \nBoard Services\nPhone: (972) 925-3720 \nLive Stream \n\n2023-2024 Board Members\nDistrict 1 – Edwin Flores\nDistrict 2 – Sarah Weinberg\, Secretary\nDistrict 3 – Dan Micciche\, 1st Vice President\nDistrict 4 – Camile White\nDistrict 5 – Maxie Johnson\, 2nd Vice President\nDistrict 6 – Joyce Foreman\nDistrict 7 – Ben Mackey\nDistrict 8 – Joe Carreon\nDistrict 9 – Justin Henry\, President
URL:https://matapta.org/event/disd-board-meeting-1-25/
LOCATION:Turney W. Leonard Governance & Training Center\, 5151 Samuell Blvd.\, Dallas\, TX\, 75228\, United States
CATEGORIES:Free Event,Off Campus
ATTACH;FMTTYPE=image/jpeg:https://matapta.org/wp-content/uploads/2023/08/DISD-Board-Meeting.jpg
END:VEVENT
BEGIN:VEVENT
DTSTART;TZID=America/Chicago:20231221T180000
DTEND;TZID=America/Chicago:20231221T200000
DTSTAMP:20260419T201931
CREATED:20230822T201527Z
LAST-MODIFIED:20230822T201527Z
UID:2770-1703181600-1703188800@matapta.org
SUMMARY:DISD Board Meeting
DESCRIPTION:Dallas ISD will be having its regular board meeting starting at 6pm. You are welcome to join either by phone\, in person\, or you can live stream the meeting. If you have questions or concerns with district policy and decision making attending a board meeting is a great first step in taking action. A recording of the meeting will be made available to the public. \nMembers of the public will appear in person. Persons desiring to speak will call the Office of Board Services at 972-925-3720 during the registration period outlined in BED (Local). Only members of the public who are properly registered will be allowed to speak during the meeting. No substitutions will be allowed. \n  \nBoard Services\nPhone: (972) 925-3720 \nLive Stream \n\n2023-2024 Board Members\nDistrict 1 – Edwin Flores\nDistrict 2 – Sarah Weinberg\, Secretary\nDistrict 3 – Dan Micciche\, 1st Vice President\nDistrict 4 – Camile White\nDistrict 5 – Maxie Johnson\, 2nd Vice President\nDistrict 6 – Joyce Foreman\nDistrict 7 – Ben Mackey\nDistrict 8 – Joe Carreon\nDistrict 9 – Justin Henry\, President
URL:https://matapta.org/event/disd-board-meeting-12-21/
LOCATION:Turney W. Leonard Governance & Training Center\, 5151 Samuell Blvd.\, Dallas\, TX\, 75228\, United States
CATEGORIES:Free Event,Off Campus
ATTACH;FMTTYPE=image/jpeg:https://matapta.org/wp-content/uploads/2023/08/DISD-Board-Meeting.jpg
END:VEVENT
BEGIN:VEVENT
DTSTART;TZID=America/Chicago:20231116T180000
DTEND;TZID=America/Chicago:20231116T200000
DTSTAMP:20260419T201931
CREATED:20230822T201433Z
LAST-MODIFIED:20230822T201433Z
UID:2768-1700157600-1700164800@matapta.org
SUMMARY:DISD Board Meeting
DESCRIPTION:Dallas ISD will be having its regular board meeting starting at 6pm. You are welcome to join either by phone\, in person\, or you can live stream the meeting. If you have questions or concerns with district policy and decision making attending a board meeting is a great first step in taking action. A recording of the meeting will be made available to the public. \nMembers of the public will appear in person. Persons desiring to speak will call the Office of Board Services at 972-925-3720 during the registration period outlined in BED (Local). Only members of the public who are properly registered will be allowed to speak during the meeting. No substitutions will be allowed. \n  \nBoard Services\nPhone: (972) 925-3720 \nLive Stream \n\n2023-2024 Board Members\nDistrict 1 – Edwin Flores\nDistrict 2 – Sarah Weinberg\, Secretary\nDistrict 3 – Dan Micciche\, 1st Vice President\nDistrict 4 – Camile White\nDistrict 5 – Maxie Johnson\, 2nd Vice President\nDistrict 6 – Joyce Foreman\nDistrict 7 – Ben Mackey\nDistrict 8 – Joe Carreon\nDistrict 9 – Justin Henry\, President
URL:https://matapta.org/event/disd-board-meeting-11-16/
LOCATION:Turney W. Leonard Governance & Training Center\, 5151 Samuell Blvd.\, Dallas\, TX\, 75228\, United States
CATEGORIES:Free Event,Off Campus
ATTACH;FMTTYPE=image/jpeg:https://matapta.org/wp-content/uploads/2023/08/DISD-Board-Meeting.jpg
END:VEVENT
BEGIN:VEVENT
DTSTART;TZID=America/Chicago:20231019T180000
DTEND;TZID=America/Chicago:20231019T200000
DTSTAMP:20260419T201931
CREATED:20230822T201347Z
LAST-MODIFIED:20230822T201347Z
UID:2766-1697738400-1697745600@matapta.org
SUMMARY:DISD Board Meeting
DESCRIPTION:Dallas ISD will be having its regular board meeting starting at 6pm. You are welcome to join either by phone\, in person\, or you can live stream the meeting. If you have questions or concerns with district policy and decision making attending a board meeting is a great first step in taking action. A recording of the meeting will be made available to the public. \nMembers of the public will appear in person. Persons desiring to speak will call the Office of Board Services at 972-925-3720 during the registration period outlined in BED (Local). Only members of the public who are properly registered will be allowed to speak during the meeting. No substitutions will be allowed. \n  \nBoard Services\nPhone: (972) 925-3720 \nLive Stream \n\n2023-2024 Board Members\nDistrict 1 – Edwin Flores\nDistrict 2 – Sarah Weinberg\, Secretary\nDistrict 3 – Dan Micciche\, 1st Vice President\nDistrict 4 – Camile White\nDistrict 5 – Maxie Johnson\, 2nd Vice President\nDistrict 6 – Joyce Foreman\nDistrict 7 – Ben Mackey\nDistrict 8 – Joe Carreon\nDistrict 9 – Justin Henry\, President
URL:https://matapta.org/event/disd-board-meeting-10-19/
LOCATION:Turney W. Leonard Governance & Training Center\, 5151 Samuell Blvd.\, Dallas\, TX\, 75228\, United States
CATEGORIES:Free Event,Off Campus
ATTACH;FMTTYPE=image/jpeg:https://matapta.org/wp-content/uploads/2023/08/DISD-Board-Meeting.jpg
END:VEVENT
BEGIN:VEVENT
DTSTART;TZID=America/Chicago:20231004T153000
DTEND;TZID=America/Chicago:20231004T163000
DTSTAMP:20260419T201931
CREATED:20230927T012624Z
LAST-MODIFIED:20230927T012624Z
UID:3015-1696433400-1696437000@matapta.org
SUMMARY:Walk and Roll from school
DESCRIPTION:Wednesday\, October 4 is National Walk Bike and Roll to School Day! Join us AFTER SCHOOL to walk along the Santa Fe Trail\, ending up at Lindsley Park. We will meet up and walk down the trail as a group. In partnership with Dallas Parks and Rec and Sprouts Market. ADULTS NEEDED TO MAKE THIS A FUN AND SAFE ADVENTURE! Email anh@matapta.org if you’re free to walk with our students.
URL:https://matapta.org/event/walk-and-roll-from-school/
LOCATION:Lindsley Park\, 7115 Lindsley Ave\, Dallas\, TX\, 75223\, United States
CATEGORIES:Free Event,Off Campus
ATTACH;FMTTYPE=image/jpeg:https://matapta.org/wp-content/uploads/2023/09/walk-roll-school.jpg
ORGANIZER;CN="Mata PTA":MAILTO:pta@matapta.org
END:VEVENT
BEGIN:VEVENT
DTSTART;TZID=America/Chicago:20230928T180000
DTEND;TZID=America/Chicago:20230928T200000
DTSTAMP:20260419T201931
CREATED:20230822T201251Z
LAST-MODIFIED:20230822T201251Z
UID:2764-1695924000-1695931200@matapta.org
SUMMARY:DISD Board Meeting
DESCRIPTION:Dallas ISD will be having its regular board meeting starting at 6pm. You are welcome to join either by phone\, in person\, or you can live stream the meeting. If you have questions or concerns with district policy and decision making attending a board meeting is a great first step in taking action. A recording of the meeting will be made available to the public. \nMembers of the public will appear in person. Persons desiring to speak will call the Office of Board Services at 972-925-3720 during the registration period outlined in BED (Local). Only members of the public who are properly registered will be allowed to speak during the meeting. No substitutions will be allowed. \n  \nBoard Services\nPhone: (972) 925-3720 \nLive Stream \n\n2023-2024 Board Members\nDistrict 1 – Edwin Flores\nDistrict 2 – Sarah Weinberg\, Secretary\nDistrict 3 – Dan Micciche\, 1st Vice President\nDistrict 4 – Camile White\nDistrict 5 – Maxie Johnson\, 2nd Vice President\nDistrict 6 – Joyce Foreman\nDistrict 7 – Ben Mackey\nDistrict 8 – Joe Carreon\nDistrict 9 – Justin Henry\, President
URL:https://matapta.org/event/disd-board-meeting-9-28/
LOCATION:Turney W. Leonard Governance & Training Center\, 5151 Samuell Blvd.\, Dallas\, TX\, 75228\, United States
CATEGORIES:Free Event,Off Campus
ATTACH;FMTTYPE=image/jpeg:https://matapta.org/wp-content/uploads/2023/08/DISD-Board-Meeting.jpg
END:VEVENT
BEGIN:VEVENT
DTSTART;TZID=America/Chicago:20230926T160000
DTEND;TZID=America/Chicago:20230926T200000
DTSTAMP:20260419T201931
CREATED:20230807T040745Z
LAST-MODIFIED:20230807T040745Z
UID:1561-1695744000-1695758400@matapta.org
SUMMARY:Chipotle Spirit Night
DESCRIPTION:Eat at Chipotle today from 4pm – 8pm and they’ll donate 33% of sales to Mata PTA! This is a super easy way to support the PTA and enjoy some delicious food at the same time. Make sure to mention MATA MONTESSORI PTA when you’re paying so we get credited for the purchase. If you order online use promo code 3WVWWH8 so we get credit as well. \n  \nGuac on!
URL:https://matapta.org/event/chipotle-spirit-night/
LOCATION:TX
CATEGORIES:Fundraising,Off Campus
ATTACH;FMTTYPE=image/jpeg:https://matapta.org/wp-content/uploads/2023/08/do-good-with-burritos.jpg
END:VEVENT
BEGIN:VEVENT
DTSTART;TZID=America/Chicago:20230923T170000
DTEND;TZID=America/Chicago:20230923T190000
DTSTAMP:20260419T201931
CREATED:20230920T013930Z
LAST-MODIFIED:20230920T013930Z
UID:2993-1695488400-1695495600@matapta.org
SUMMARY:Woodrow Wilson Elementary Spirit Battle
DESCRIPTION:Woodrow Wilson High School Homecoming Festival! – Mata Spirit Battle\n\nThe Woodrow Wilson High School Homecoming Festival on September 23 will be a fun family event! There will be something for all Wildcats\, past\, present and future! \nCome see the all of the performances and the different school spirit traditions you might only see if you go to a pep rally or games! \nJoin us at the Elementary School Spirit Battle at the Woodrow Homecoming Festival\, Saturday\, September 23 from 5-7pm at the Woodrow practice field. Wear Mata swag and represent us at the first ever spirit competition between all Woodrow feeder elementary schools. The grand prize is a spirit stick to take home to our school! See you there!
URL:https://matapta.org/event/woodrow-wilson-elementary-spirit-battle/
LOCATION:Woodrow Wilson Highschool\, 100 South Glasgow Drive\, Dallas\, TX\, 75214\, United States
CATEGORIES:Free Event,Off Campus
ATTACH;FMTTYPE=image/jpeg:https://matapta.org/wp-content/uploads/2023/09/woodrow-wilson-spirit-battle.jpg
END:VEVENT
BEGIN:VEVENT
DTSTART;TZID=America/Chicago:20230903T170000
DTEND;TZID=America/Chicago:20230903T200000
DTSTAMP:20260419T201931
CREATED:20230828T043641Z
LAST-MODIFIED:20230828T043641Z
UID:2862-1693760400-1693771200@matapta.org
SUMMARY:Splash Bash Fundraiser
DESCRIPTION:Join us to play BEAT THE DUNK BUCKET! to fundraise $10 per student participant. (everyone can play! donation preference to prek – 5th grade students) \nNo RSVP or registration fee required. Simply sign in the day of the event to direct Comerica Bank’s donation to your school’s PTA/PTO. \nSponsored By COMERICA BANK\nHosted by THE SHINDIG FOOD PARK \nSEPTEMBER 2 & 3\n5:00 – 8:00 P.M. \nACTIVITIES\nBEAT THE DUNK BUCKET\nFOOD & DRINK VENDORS\nGAMES & PRIZES \nLOCATION\nTHE SHINDIG FOOD PARK\n3732 SAMUELL BLVD
URL:https://matapta.org/event/splash-bash-fundraiser-sep-3/
LOCATION:The Shindig Food Park\, 3732 SAMUELL BLVD\, Dallas\, TX\, 75228\, United States
CATEGORIES:Free Event,Fundraising,Off Campus
ATTACH;FMTTYPE=image/jpeg:https://matapta.org/wp-content/uploads/2023/08/splash-bash-hero.jpg
END:VEVENT
BEGIN:VEVENT
DTSTART;TZID=America/Chicago:20230902T170000
DTEND;TZID=America/Chicago:20230902T200000
DTSTAMP:20260419T201931
CREATED:20230828T043407Z
LAST-MODIFIED:20230828T043600Z
UID:2856-1693674000-1693684800@matapta.org
SUMMARY:Splash Bash Fundraiser
DESCRIPTION:Join us to play BEAT THE DUNK BUCKET! to fundraise $10 per student participant. (everyone can play! donation preference to prek – 5th grade students) \nNo RSVP or registration fee required. Simply sign in the day of the event to direct Comerica Bank’s donation to your school’s PTA/PTO. \nSponsored By COMERICA BANK\nHosted by THE SHINDIG FOOD PARK \nSEPTEMBER 2 & 3\n5:00 – 8:00 P.M. \nACTIVITIES\nBEAT THE DUNK BUCKET\nFOOD & DRINK VENDORS\nGAMES & PRIZES \nLOCATION\nTHE SHINDIG FOOD PARK\n3732 SAMUELL BLVD
URL:https://matapta.org/event/splash-bash-fundraiser/
LOCATION:The Shindig Food Park\, 3732 SAMUELL BLVD\, Dallas\, TX\, 75228\, United States
CATEGORIES:Free Event,Fundraising,Off Campus
ATTACH;FMTTYPE=image/jpeg:https://matapta.org/wp-content/uploads/2023/08/splash-bash-hero.jpg
END:VEVENT
BEGIN:VEVENT
DTSTART;TZID=America/Chicago:20230824T180000
DTEND;TZID=America/Chicago:20230824T200000
DTSTAMP:20260419T201931
CREATED:20230822T200710Z
LAST-MODIFIED:20230822T200710Z
UID:2760-1692900000-1692907200@matapta.org
SUMMARY:DISD Board Meeting
DESCRIPTION:Dallas ISD will be having its regular board meeting starting at 6pm. You are welcome to join either by phone\, in person\, or you can live stream the meeting. If you have questions or concerns with district policy and decision making attending a board meeting is a great first step in taking action. A recording of the meeting will be made available to the public. \nMembers of the public will appear in person. Persons desiring to speak will call the Office of Board Services at 972-925-3720 during the registration period outlined in BED (Local). Only members of the public who are properly registered will be allowed to speak during the meeting. No substitutions will be allowed. \n  \nBoard Services\nPhone: (972) 925-3720 \nLive Stream \n\n2023-2024 Board Members\nDistrict 1 – Edwin Flores\nDistrict 2 – Sarah Weinberg\, Secretary\nDistrict 3 – Dan Micciche\, 1st Vice President\nDistrict 4 – Camile White\nDistrict 5 – Maxie Johnson\, 2nd Vice President\nDistrict 6 – Joyce Foreman\nDistrict 7 – Ben Mackey\nDistrict 8 – Joe Carreon\nDistrict 9 – Justin Henry\, President
URL:https://matapta.org/event/disd-board-meeting/
LOCATION:Turney W. Leonard Governance & Training Center\, 5151 Samuell Blvd.\, Dallas\, TX\, 75228\, United States
CATEGORIES:Free Event,Off Campus
ATTACH;FMTTYPE=image/jpeg:https://matapta.org/wp-content/uploads/2023/08/DISD-Board-Meeting.jpg
END:VEVENT
BEGIN:VEVENT
DTSTART;TZID=America/Chicago:20230819T100000
DTEND;TZID=America/Chicago:20230819T110000
DTSTAMP:20260419T201931
CREATED:20230810T030232Z
LAST-MODIFIED:20230817T163659Z
UID:1441-1692439200-1692442800@matapta.org
SUMMARY:Paletas in the Park
DESCRIPTION:Date Change! Due to the extreme heat we will now be meeting on SATURDAY at 10am. \nJoin us at 10am at the Lindsley Park Picnic Tables. We rented an authentic paletas cart so bring your family\, visit with your fellow Eagles\, and enjoy a FREE paleta!
URL:https://matapta.org/event/paletas-in-the-park/
LOCATION:Lindsley Park\, 7115 Lindsley Ave\, Dallas\, TX\, 75223\, United States
CATEGORIES:Free Event,Off Campus
ATTACH;FMTTYPE=image/png:https://matapta.org/wp-content/uploads/2023/08/Paletas-in-the-park-1920x1080-2.png
ORGANIZER;CN="Mata PTA":MAILTO:pta@matapta.org
END:VEVENT
END:VCALENDAR