BEGIN:VCALENDAR
VERSION:2.0
PRODID:-//Mata PTA - ECPv6.6.0.2//NONSGML v1.0//EN
CALSCALE:GREGORIAN
METHOD:PUBLISH
X-WR-CALNAME:Mata PTA
X-ORIGINAL-URL:https://matapta.org
X-WR-CALDESC:Events for Mata PTA
REFRESH-INTERVAL;VALUE=DURATION:PT1H
X-Robots-Tag:noindex
X-PUBLISHED-TTL:PT1H
BEGIN:VTIMEZONE
TZID:America/Chicago
BEGIN:DAYLIGHT
TZOFFSETFROM:-0600
TZOFFSETTO:-0500
TZNAME:CDT
DTSTART:20240310T080000
END:DAYLIGHT
BEGIN:STANDARD
TZOFFSETFROM:-0500
TZOFFSETTO:-0600
TZNAME:CST
DTSTART:20241103T070000
END:STANDARD
END:VTIMEZONE
BEGIN:VEVENT
DTSTART;TZID=America/Chicago:20241115T190000
DTEND;TZID=America/Chicago:20241115T210000
DTSTAMP:20260422T103844
CREATED:20241114T031317Z
LAST-MODIFIED:20241114T031317Z
UID:4636-1731697200-1731704400@matapta.org
SUMMARY:Spirit Night | Adult Edition
DESCRIPTION:SECURE YOUR BABYSITTERS \n\n\nThis one’s just for the grown-ups\, and it’s going to be a blast! \n\n\nThis place is my all time favorite spot and President Perks is you get to call to your favorite places to see if they’ll support  SO they have generously agreed to give back 15% of all proceeds from 7-9pm on Nov. 15th to Mata PTA!  So tell all your friends and family to join us!\n\n\nTheir beer\, tequila\, mezcal\, and other mexican agave spirits selection is top-notch \, and the food is incredible . I’m excited for this one.. hope to see you all there for a fun night that supports our school!
URL:https://matapta.org/event/spirit-night-adult-edition/
LOCATION:Las Almas Rotas\, 3615 Parry Avenue\, Dallas\, 75226\, United States
CATEGORIES:Fundraising,Off Campus
ATTACH;FMTTYPE=image/jpeg:https://matapta.org/wp-content/uploads/2024/11/LasAlmas.jpg
END:VEVENT
END:VCALENDAR