BEGIN:VCALENDAR
VERSION:2.0
PRODID:-//Mata PTA - ECPv6.6.0.2//NONSGML v1.0//EN
CALSCALE:GREGORIAN
METHOD:PUBLISH
X-WR-CALNAME:Mata PTA
X-ORIGINAL-URL:https://matapta.org
X-WR-CALDESC:Events for Mata PTA
REFRESH-INTERVAL;VALUE=DURATION:PT1H
X-Robots-Tag:noindex
X-PUBLISHED-TTL:PT1H
BEGIN:VTIMEZONE
TZID:America/Chicago
BEGIN:DAYLIGHT
TZOFFSETFROM:-0600
TZOFFSETTO:-0500
TZNAME:CDT
DTSTART:20230312T080000
END:DAYLIGHT
BEGIN:STANDARD
TZOFFSETFROM:-0500
TZOFFSETTO:-0600
TZNAME:CST
DTSTART:20231105T070000
END:STANDARD
BEGIN:DAYLIGHT
TZOFFSETFROM:-0600
TZOFFSETTO:-0500
TZNAME:CDT
DTSTART:20240310T080000
END:DAYLIGHT
BEGIN:STANDARD
TZOFFSETFROM:-0500
TZOFFSETTO:-0600
TZNAME:CST
DTSTART:20241103T070000
END:STANDARD
BEGIN:DAYLIGHT
TZOFFSETFROM:-0600
TZOFFSETTO:-0500
TZNAME:CDT
DTSTART:20250309T080000
END:DAYLIGHT
BEGIN:STANDARD
TZOFFSETFROM:-0500
TZOFFSETTO:-0600
TZNAME:CST
DTSTART:20251102T070000
END:STANDARD
END:VTIMEZONE
BEGIN:VEVENT
DTSTART;TZID=America/Chicago:20250812T073000
DTEND;TZID=America/Chicago:20250812T083000
DTSTAMP:20260419T234535
CREATED:20250808T135056Z
LAST-MODIFIED:20250808T135056Z
UID:4889-1754983800-1754987400@matapta.org
SUMMARY:Yahoo Boohoo Breakfast
DESCRIPTION:Cheers or Tears? Yahoo or Boohoo?No matter how you feel about it\, the new school year is here! \nCome join your Mata PTA friends at our annual Yahoo/Boohoo event on the first day of school. \nWe’ll be serving breakfast snacks\, coffee\, and juice on the grassy hill between the drop-off entrances during morning drop-off. \nWhether you’re celebrating\, feeling sentimental\, or a mix of both\, stop by and share your feelings\, and connect with fellow parents as we kick off another great year!
URL:https://matapta.org/event/yahoo-boohoo-breakfast-2/
LOCATION:Eduardo Mata Montessori School\, 7420 La Vista Drive\, Dallas\, TX\, 75214
CATEGORIES:Back to School,Free Event,On Campus
ATTACH;FMTTYPE=image/jpeg:https://matapta.org/wp-content/uploads/2023/08/Yahoo-Boohoo-Breakfast.jpg
ORGANIZER;CN="Mata PTA":MAILTO:pta@matapta.org
END:VEVENT
BEGIN:VEVENT
DTSTART;TZID=America/Chicago:20240812T073000
DTEND;TZID=America/Chicago:20240812T083000
DTSTAMP:20260419T234535
CREATED:20240726T001550Z
LAST-MODIFIED:20240726T001550Z
UID:4105-1723447800-1723451400@matapta.org
SUMMARY:Yahoo Boohoo Breakfast
DESCRIPTION:Cheers or tears? Yahoo or Boohoo? Regardless of how you feel about it\, the new school year is upon us.\n\n\n\nCome and ring in the the first day of school with your Mata PTA friends at our annual Yahoo/Boohoo event. The PTA will be serving breakfast snack with coffee and juice. Join us on the grassy hill between drop off entrances during morning drop-off and tell us how you’re feeling about the start of the new year!
URL:https://matapta.org/event/yahoo-boohoo-breakfast-2024/
LOCATION:Eduardo Mata Montessori School\, 7420 La Vista Drive\, Dallas\, TX\, 75214
CATEGORIES:Back to School,Free Event,On Campus
ATTACH;FMTTYPE=image/jpeg:https://matapta.org/wp-content/uploads/2023/08/Yahoo-Boohoo-Breakfast.jpg
ORGANIZER;CN="Mata PTA":MAILTO:pta@matapta.org
END:VEVENT
BEGIN:VEVENT
DTSTART;TZID=America/Chicago:20240808T160000
DTEND;TZID=America/Chicago:20240808T180000
DTSTAMP:20260419T234535
CREATED:20240726T001319Z
LAST-MODIFIED:20240726T001401Z
UID:4053-1723132800-1723140000@matapta.org
SUMMARY:Meet the Teacher
DESCRIPTION:Join us Thursday\, August 8th from 4pm – 6pm for our annual “Meet the Teacher” night. You’ll be able to meet your child’s teacher(s)\, drop off school supplies\, check out bus routes. Plus visit with the PTA\, purchase school spirit gear at Eagle Wagon\, and learn about other programs like the Boy Scouts\, Girl Scouts\, and YMCA.
URL:https://matapta.org/event/meet-the-teacher-2024/
LOCATION:Eduardo Mata Montessori School\, 7420 La Vista Drive\, Dallas\, TX\, 75214
CATEGORIES:Back to School,On Campus
ATTACH;FMTTYPE=image/png:https://matapta.org/wp-content/uploads/2023/07/mustachemcgee_a_PTA_meeting_with_parents_teachers_and_kids_stan_754a9615-ea56-45b0-a2ac-8c7c6d0177a6.png
END:VEVENT
BEGIN:VEVENT
DTSTART;TZID=America/Chicago:20230814T073000
DTEND;TZID=America/Chicago:20230814T083000
DTSTAMP:20260419T234535
CREATED:20230805T205604Z
LAST-MODIFIED:20230805T205604Z
UID:1453-1691998200-1692001800@matapta.org
SUMMARY:Yahoo Boohoo Breakfast
DESCRIPTION:Cheers or tears? Yahoo or Boohoo? Regardless of how you feel about it\, the new school year is upon us.\n\n\n\nCome and ring in the the first day of school with your Mata PTA friends at our annual Yahoo/Boohoo event. The PTA will be serving breakfast snack with coffee and juice. Join us on the grassy hill between drop off entrances during morning drop-off and tell us how you’re feeling about the start of the new year!
URL:https://matapta.org/event/yahoo-boohoo-breakfast/
LOCATION:Eduardo Mata Montessori School\, 7420 La Vista Drive\, Dallas\, TX\, 75214
CATEGORIES:Back to School,Free Event,On Campus
ATTACH;FMTTYPE=image/jpeg:https://matapta.org/wp-content/uploads/2023/08/Yahoo-Boohoo-Breakfast.jpg
ORGANIZER;CN="Mata PTA":MAILTO:pta@matapta.org
END:VEVENT
BEGIN:VEVENT
DTSTART;TZID=America/Chicago:20230810T153000
DTEND;TZID=America/Chicago:20230810T173000
DTSTAMP:20260419T234535
CREATED:20230724T205012Z
LAST-MODIFIED:20230804T144055Z
UID:564-1691681400-1691688600@matapta.org
SUMMARY:Meet the Teacher
DESCRIPTION:Join us Thursday\, August 10th from 3:30pm – 5:30pm for our annual “Meet the Teacher” night. You’ll be able to meet your child’s teacher(s)\, drop off school supplies\, check out bus routes. Plus visit with the PTA\, purchase school spirit gear at Eagle Wagon\, and learn about other programs like the Boy Scouts\, Girl Scouts\, and YMCA.
URL:https://matapta.org/event/meet-the-teacher/
LOCATION:Eduardo Mata Montessori School\, 7420 La Vista Drive\, Dallas\, TX\, 75214
CATEGORIES:Back to School,On Campus
ATTACH;FMTTYPE=image/jpeg:https://matapta.org/wp-content/uploads/2023/07/meet-the-teacher-night.jpg
END:VEVENT
END:VCALENDAR