BEGIN:VCALENDAR
VERSION:2.0
PRODID:-//Mata PTA - ECPv6.6.0.2//NONSGML v1.0//EN
CALSCALE:GREGORIAN
METHOD:PUBLISH
X-WR-CALNAME:Mata PTA
X-ORIGINAL-URL:https://matapta.org
X-WR-CALDESC:Events for Mata PTA
REFRESH-INTERVAL;VALUE=DURATION:PT1H
X-Robots-Tag:noindex
X-PUBLISHED-TTL:PT1H
BEGIN:VTIMEZONE
TZID:America/Chicago
BEGIN:DAYLIGHT
TZOFFSETFROM:-0600
TZOFFSETTO:-0500
TZNAME:CDT
DTSTART:20250309T080000
END:DAYLIGHT
BEGIN:STANDARD
TZOFFSETFROM:-0500
TZOFFSETTO:-0600
TZNAME:CST
DTSTART:20251102T070000
END:STANDARD
END:VTIMEZONE
BEGIN:VEVENT
DTSTART;VALUE=DATE:20250122
DTEND;VALUE=DATE:20250123
DTSTAMP:20260420T234919
CREATED:20250107T180307Z
LAST-MODIFIED:20250107T180307Z
UID:4733-1737504000-1737590399@matapta.org
SUMMARY:Greenville Avenue Pizza Co Donation Day
DESCRIPTION:🍕🎉 Mark your calendars\, Mata Families! 🎉🍕 \nJoin us for a delicious way to support our school on Donation Day at Greenville Avenue Pizza Company (Lower Greenville location only)! \n📅 Date: January 22\, ALL DAY\n📍 Location: Greenville Avenue Pizza Co. – Lower Greenville \n🌟 25% of all orders will go directly to the Mata PTA to help fund programs and initiatives for our students! 🌟 \nHow to participate: 1️⃣ Order your favorite pizza (or anything on the menu!)\n2️⃣ Bring in your flyer or use the coupon code: DonationDay when ordering online\n3️⃣ Enjoy great food\, knowing you’re supporting a great cause! \nLet’s make this a fun and tasty day for Mata! 🍕✨ Don’t forget to share and invite friends and family to join in on the support!
URL:https://matapta.org/event/greenville-avenue-pizza-co-donation-day/
LOCATION:greenville avenue Pizza co\, 1923 Greenville Avenue\, Dallas\, TX\, 75206\, United States
CATEGORIES:Fundraising
ATTACH;FMTTYPE=image/jpeg:https://matapta.org/wp-content/uploads/2025/01/GAPC-presentation.jpg
END:VEVENT
END:VCALENDAR